BEGIN:VCALENDAR
METHOD:REQUEST
VERSION:2.0
BEGIN:VTIMEZONE
TZID:Europe/Berlin
BEGIN:STANDARD
DTSTART:20251026T010000
TZOFFSETFROM:+0200
TZOFFSETTO:+0100
END:STANDARD
BEGIN:DAYLIGHT
DTSTART:20260329T010000
TZOFFSETFROM:+0100
TZOFFSETTO:+0200
END:DAYLIGHT
BEGIN:STANDARD
DTSTART:20261025T010000
TZOFFSETFROM:+0200
TZOFFSETTO:+0100
END:STANDARD
BEGIN:DAYLIGHT
DTSTART:20270328T010000
TZOFFSETFROM:+0100
TZOFFSETTO:+0200
END:DAYLIGHT
END:VTIMEZONE
BEGIN:VEVENT
UID:324@hansephotonik.de
DTSTAMP:20260217T124459Z
DTSTART;TZID=Europe/Berlin:20260609T100000
DTEND;TZID=Europe/Berlin:20260610T163000
ORGANIZER;CN=bayern photonics e.V.:mailto:info@bayern-photonics.de
SUMMARY:Konstruktions- und Entwicklungs-Workshop Optomechanik
DESCRIPTION:Kursnummer: bp-al-om_26-06\nBeginn: 09.06.2026, 10:00 Uhr\nEnde: 10.06.2026, 16:30 Uhr
ATTACH:https://hansephotonik.de/veranstaltungen/veranstaltungen-details/seminar/bp-al-om-26-06.html
LOCATION:Conference Center, Flughafen Nürnberg\nFlughafenstrasse 100\n90411 Nürnberg\n
END:VEVENT
END:VCALENDAR