BEGIN:VCALENDAR
METHOD:REQUEST
VERSION:2.0
BEGIN:VTIMEZONE
TZID:Europe/Berlin
BEGIN:STANDARD
DTSTART:20251026T010000
TZOFFSETFROM:+0200
TZOFFSETTO:+0100
END:STANDARD
BEGIN:DAYLIGHT
DTSTART:20260329T010000
TZOFFSETFROM:+0100
TZOFFSETTO:+0200
END:DAYLIGHT
BEGIN:STANDARD
DTSTART:20261025T010000
TZOFFSETFROM:+0200
TZOFFSETTO:+0100
END:STANDARD
BEGIN:DAYLIGHT
DTSTART:20270328T010000
TZOFFSETFROM:+0100
TZOFFSETTO:+0200
END:DAYLIGHT
END:VTIMEZONE
BEGIN:VEVENT
UID:261@hansephotonik.de
DTSTAMP:20260223T131014Z
DTSTART;TZID=Europe/Berlin:20260609T170000
DTEND;TZID=Europe/Berlin:20260609T200000
ORGANIZER;CN=OpTecBB e.V.:mailto:
SUMMARY:BarBQ 2026 (June)
DESCRIPTION:Kursnummer: obb-fg-bbq\nBeginn: 09.06.2026, 17:00 Uhr\nEnde: 09.06.2026, 20:00 Uhr
ATTACH:https://hansephotonik.de/veranstaltungen/veranstaltungen-details/seminar/obb-fg-bbq-14.html
LOCATION:Leap Quantum Technology Hub & Events\nRudower Chaussee 29\n12489 Berlin\nDeutschland
END:VEVENT
END:VCALENDAR