BEGIN:VCALENDAR
METHOD:REQUEST
VERSION:2.0
BEGIN:VTIMEZONE
TZID:Europe/Berlin
BEGIN:STANDARD
DTSTART:20251026T010000
TZOFFSETFROM:+0200
TZOFFSETTO:+0100
END:STANDARD
BEGIN:DAYLIGHT
DTSTART:20260329T010000
TZOFFSETFROM:+0100
TZOFFSETTO:+0200
END:DAYLIGHT
BEGIN:STANDARD
DTSTART:20261025T010000
TZOFFSETFROM:+0200
TZOFFSETTO:+0100
END:STANDARD
BEGIN:DAYLIGHT
DTSTART:20270328T010000
TZOFFSETFROM:+0100
TZOFFSETTO:+0200
END:DAYLIGHT
END:VTIMEZONE
BEGIN:VEVENT
UID:291@hansephotonik.de
DTSTAMP:20260106T081029Z
DTSTART;TZID=Europe/Berlin:20260609T160000
DTEND;TZID=Europe/Berlin:20260609T190000
ORGANIZER;CN=OpTecBB e.V.:mailto:
SUMMARY:Lichtstammtisch GAL
DESCRIPTION:Kursnummer: obb-fg-ls\nBeginn: 09.06.2026, 16:00 Uhr\nEnde: 09.06.2026, 19:00 Uhr
ATTACH:https://hansephotonik.de/veranstaltungen/veranstaltungen-details/seminar/obb-fg-ls-6.html
END:VEVENT
END:VCALENDAR