BEGIN:VCALENDAR
METHOD:REQUEST
VERSION:2.0
BEGIN:VTIMEZONE
TZID:Europe/Berlin
BEGIN:STANDARD
DTSTART:20251026T010000
TZOFFSETFROM:+0200
TZOFFSETTO:+0100
END:STANDARD
BEGIN:DAYLIGHT
DTSTART:20260329T010000
TZOFFSETFROM:+0100
TZOFFSETTO:+0200
END:DAYLIGHT
BEGIN:STANDARD
DTSTART:20261025T010000
TZOFFSETFROM:+0200
TZOFFSETTO:+0100
END:STANDARD
BEGIN:DAYLIGHT
DTSTART:20270328T010000
TZOFFSETFROM:+0100
TZOFFSETTO:+0200
END:DAYLIGHT
END:VTIMEZONE
BEGIN:VEVENT
UID:287@hansephotonik.de
DTSTAMP:20260414T115142Z
DTSTART;TZID=Europe/Berlin:20260610T090000
DTEND;TZID=Europe/Berlin:20260610T190000
ORGANIZER;CN=OpTecBB e.V.:mailto:
SUMMARY:Workshop: „Design for Manufacturing and Testing“
DESCRIPTION:Kursnummer: obb-fg-wdfmat\nBeginn: 10.06.2026, 09:00 Uhr\nEnde: 10.06.2026, 19:00 Uhr
ATTACH:https://hansephotonik.de/veranstaltungen/veranstaltungen-details/seminar/obb-fg-wdfmat.html
LOCATION:Fraunhofer Institute for Telecommunication, Heinrich-Hertz-Institut, HHI\nEinsteinufer 37\n10587 Berlin\nDeutschland
END:VEVENT
END:VCALENDAR