BEGIN:VCALENDAR
METHOD:REQUEST
VERSION:2.0
BEGIN:VTIMEZONE
TZID:Europe/Berlin
BEGIN:STANDARD
DTSTART:20251026T010000
TZOFFSETFROM:+0200
TZOFFSETTO:+0100
END:STANDARD
BEGIN:DAYLIGHT
DTSTART:20260329T010000
TZOFFSETFROM:+0100
TZOFFSETTO:+0200
END:DAYLIGHT
BEGIN:STANDARD
DTSTART:20261025T010000
TZOFFSETFROM:+0200
TZOFFSETTO:+0100
END:STANDARD
BEGIN:DAYLIGHT
DTSTART:20270328T010000
TZOFFSETFROM:+0100
TZOFFSETTO:+0200
END:DAYLIGHT
END:VTIMEZONE
BEGIN:VEVENT
UID:196@hansephotonik.de
DTSTAMP:20250827T100020Z
DTSTART;TZID=Europe/Berlin:20260617T151100
DTEND;TZID=Europe/Berlin:20260618T151100
ORGANIZER;CN=OptecNet Deutschland e.V.:mailto:
SUMMARY:6. OptecNet Jahrestagung - Aussteller
DESCRIPTION:Kursnummer: Opt-Jht26-Aussteller\nBeginn: 17.06.2026, 15:11 Uhr\nEnde: 18.06.2026, 15:11 Uhr
ATTACH:https://hansephotonik.de/veranstaltungen/veranstaltungen-details/seminar/opt-jht26-aussteller.html
LOCATION:Veranstaltungsforum Fürstenfeldbruck\nFürstenfeld 12\n82256 Fürstenfeldbruck\n
END:VEVENT
END:VCALENDAR