BEGIN:VCALENDAR
METHOD:REQUEST
VERSION:2.0
BEGIN:VTIMEZONE
TZID:Europe/Berlin
BEGIN:STANDARD
DTSTART:20241027T010000
TZOFFSETFROM:+0200
TZOFFSETTO:+0100
END:STANDARD
BEGIN:DAYLIGHT
DTSTART:20250330T010000
TZOFFSETFROM:+0100
TZOFFSETTO:+0200
END:DAYLIGHT
BEGIN:STANDARD
DTSTART:20251026T010000
TZOFFSETFROM:+0200
TZOFFSETTO:+0100
END:STANDARD
BEGIN:DAYLIGHT
DTSTART:20260329T010000
TZOFFSETFROM:+0100
TZOFFSETTO:+0200
END:DAYLIGHT
END:VTIMEZONE
BEGIN:VEVENT
UID:100@hansephotonik.de
DTSTAMP:20250312T161531Z
DTSTART;TZID=Europe/Berlin:20250624T090000
DTEND;TZID=Europe/Berlin:20250627T160000
ORGANIZER;CN=Messe München:mailto:info@messe-muenchen.de
SUMMARY:World of Quantum
DESCRIPTION:Kursnummer: WoQ-bpa\nBeginn: 24.06.2025, 09:00 Uhr\nEnde: 27.06.2025, 16:00 Uhr
ATTACH:https://hansephotonik.de/veranstaltungen/veranstaltungen-details/seminar/woq-bpa.html
LOCATION:Trade Fair Center Messe München\nAm Messesee 2\n81829 München\n
END:VEVENT
END:VCALENDAR